BEGIN:VCALENDAR
VERSION:2.0
PRODID:-//TiE Austin | The World’s Largest Entrepreneurial Organization
CALSCALE:GREGORIAN
METHOD:PUBLISH
X-WR-CALNAME:TiE Austin | The World’s Largest Entrepreneurial Organization
X-ORIGINAL-URL:https://austin.tie.org/product/humantelligence-in-austin-tx/
X-WR-CALDESC:Humantelligence in Austin, TX
BEGIN:VEVENT
DTSTART:20190529T080000
DTEND:20190529T093000
SUMMARY:Humantelligence in Austin, TX
DESCRIPTION:
LOCATION:Hotel Fairmont Austin  101 Red River Street  Austin, TX 78701  United States
END:VEVENT
END:VCALENDAR
