BEGIN:VCALENDAR
VERSION:2.0
PRODID:-//TiE Austin | The World’s Largest Entrepreneurial Organization
CALSCALE:GREGORIAN
METHOD:PUBLISH
X-WR-CALNAME:TiE Austin | The World’s Largest Entrepreneurial Organization
X-ORIGINAL-URL:https://austin.tie.org/product/stay-tuned-date-august-22nd/
X-WR-CALDESC:TiE Austin: Meet N Mingle Happy Hour
BEGIN:VEVENT
DTSTART:20190822T173000
DTEND:20190822T193000
SUMMARY:TiE Austin: Meet N Mingle Happy Hour
DESCRIPTION:
LOCATION:11420 Rock Rose Ave #130, Austin, TX 78758
END:VEVENT
END:VCALENDAR
