BEGIN:VCALENDAR
VERSION:2.0
PRODID:-//TiE Austin | The World’s Largest Entrepreneurial Organization
CALSCALE:GREGORIAN
METHOD:PUBLISH
X-WR-CALNAME:TiE Austin | The World’s Largest Entrepreneurial Organization
X-ORIGINAL-URL:https://austin.tie.org/product/stay-tuned-date-july-25th/
X-WR-CALDESC:Stay Tuned Date July 25th
BEGIN:VEVENT
DTSTART:20190725T170000
DTEND:20190725T200000
SUMMARY:Stay Tuned Date July 25th
DESCRIPTION:
LOCATION:
END:VEVENT
END:VCALENDAR
