BEGIN:VCALENDAR
VERSION:2.0
PRODID:-//TiE Austin | The World’s Largest Entrepreneurial Organization
CALSCALE:GREGORIAN
METHOD:PUBLISH
X-WR-CALNAME:TiE Austin | The World’s Largest Entrepreneurial Organization
X-ORIGINAL-URL:https://austin.tie.org/product/early-stage-capital-ingenuity-and-ma-solutions/
X-WR-CALDESC:Early Stage Capital Ingenuity and M&#038;A Solutions
BEGIN:VEVENT
DTSTART:20170531T083000
DTEND:20170531T130000
SUMMARY:Early Stage Capital Ingenuity and M&#038;A Solutions
DESCRIPTION:
LOCATION:Osteria Pronto (Austin), 110,East 2nd Street,Downtown, Austin
END:VEVENT
END:VCALENDAR
