BEGIN:VCALENDAR
VERSION:2.0
PRODID:-//TiE Austin | The World’s Largest Entrepreneurial Organization
CALSCALE:GREGORIAN
METHOD:PUBLISH
X-WR-CALNAME:TiE Austin | The World’s Largest Entrepreneurial Organization
X-ORIGINAL-URL:https://austin.tie.org/product/tie-global-summit/
X-WR-CALDESC:TiE Global Summit
BEGIN:VEVENT
DTSTART:20180221T090000
DTEND:20180222T200000
SUMMARY:TiE Global Summit
DESCRIPTION:
LOCATION:Vile Parle East, Vile Parle East,Vile Parle Mumbai,India
END:VEVENT
END:VCALENDAR
