BEGIN:VCALENDAR
VERSION:2.0
PRODID:-//TiE Austin | The World’s Largest Entrepreneurial Organization
CALSCALE:GREGORIAN
METHOD:PUBLISH
X-WR-CALNAME:TiE Austin | The World’s Largest Entrepreneurial Organization
X-ORIGINAL-URL:https://austin.tie.org/product/commercial-real-estate-entrepreneurial-and-investment-opportunities-in-real-estate/
X-WR-CALDESC:Commercial Real Estate &#8211; Entrepreneurial and Investment Opportunities in Real Estate
BEGIN:VEVENT
DTSTART:20180418T170000
DTEND:20180419T190000
SUMMARY:Commercial Real Estate &#8211; Entrepreneurial and Investment Opportunities in Real Estate
DESCRIPTION:
LOCATION:Capital Factory, 701 Brazos St, Austin,USA
END:VEVENT
END:VCALENDAR
