BEGIN:VCALENDAR
VERSION:2.0
PRODID:-//TiE Austin | The World’s Largest Entrepreneurial Organization
CALSCALE:GREGORIAN
METHOD:PUBLISH
X-WR-CALNAME:TiE Austin | The World’s Largest Entrepreneurial Organization
X-ORIGINAL-URL:https://austin.tie.org/product/tie/
X-WR-CALDESC:TiE
BEGIN:VEVENT
DTSTART:20180621T160000
DTEND:20180621T190000
SUMMARY:TiE
DESCRIPTION:
LOCATION:Congress Plaza  111,Congress Avenue,Downtown  Austin
END:VEVENT
END:VCALENDAR
